BEGIN:VCALENDAR
VERSION:2.0
PRODID:-//ev. Posaunenchor Bad Urach - ECPv6.15.20//NONSGML v1.0//EN
CALSCALE:GREGORIAN
METHOD:PUBLISH
X-ORIGINAL-URL:https://www.posaunenchor-badurach.de
X-WR-CALDESC:Veranstaltungen für ev. Posaunenchor Bad Urach
REFRESH-INTERVAL;VALUE=DURATION:PT1H
X-Robots-Tag:noindex
X-PUBLISHED-TTL:PT1H
BEGIN:VTIMEZONE
TZID:Europe/Berlin
BEGIN:DAYLIGHT
TZOFFSETFROM:+0100
TZOFFSETTO:+0200
TZNAME:CEST
DTSTART:20220327T010000
END:DAYLIGHT
BEGIN:STANDARD
TZOFFSETFROM:+0200
TZOFFSETTO:+0100
TZNAME:CET
DTSTART:20221030T010000
END:STANDARD
BEGIN:DAYLIGHT
TZOFFSETFROM:+0100
TZOFFSETTO:+0200
TZNAME:CEST
DTSTART:20230326T010000
END:DAYLIGHT
BEGIN:STANDARD
TZOFFSETFROM:+0200
TZOFFSETTO:+0100
TZNAME:CET
DTSTART:20231029T010000
END:STANDARD
BEGIN:DAYLIGHT
TZOFFSETFROM:+0100
TZOFFSETTO:+0200
TZNAME:CEST
DTSTART:20240331T010000
END:DAYLIGHT
BEGIN:STANDARD
TZOFFSETFROM:+0200
TZOFFSETTO:+0100
TZNAME:CET
DTSTART:20241027T010000
END:STANDARD
BEGIN:DAYLIGHT
TZOFFSETFROM:+0100
TZOFFSETTO:+0200
TZNAME:CEST
DTSTART:20250330T010000
END:DAYLIGHT
BEGIN:STANDARD
TZOFFSETFROM:+0200
TZOFFSETTO:+0100
TZNAME:CET
DTSTART:20251026T010000
END:STANDARD
BEGIN:DAYLIGHT
TZOFFSETFROM:+0100
TZOFFSETTO:+0200
TZNAME:CEST
DTSTART:20260329T010000
END:DAYLIGHT
BEGIN:STANDARD
TZOFFSETFROM:+0200
TZOFFSETTO:+0100
TZNAME:CET
DTSTART:20261025T010000
END:STANDARD
END:VTIMEZONE
BEGIN:VEVENT
DTSTART;TZID=Europe/Berlin:20250619T103000
DTEND;TZID=Europe/Berlin:20250619T120000
DTSTAMP:20260422T100651
CREATED:20250102T113327Z
LAST-MODIFIED:20250102T113355Z
UID:10000265-1750329000-1750334400@www.posaunenchor-badurach.de
SUMMARY:Begleitung Fronleichnam St. Josef
DESCRIPTION:Begleitung Gottesdienst zum Fronleichnam der kath. Kirchengemeinde St. Josef in der kath. Kirche und an verschiedenen Standorten
URL:https://www.posaunenchor-badurach.de/event/begleitung-fronleichnam-st-josef-3/
LOCATION:Katholische Kirche St. Josef\, Münsinger Straße 15\, Bad Urach\, 72574
CATEGORIES:Posaunenchor
ATTACH;FMTTYPE=image/jpeg:https://www.posaunenchor-badurach.de/wp-content/uploads/2023/01/sj_08_7.jpg
END:VEVENT
BEGIN:VEVENT
DTSTART;TZID=Europe/Berlin:20240530T103000
DTEND;TZID=Europe/Berlin:20240530T120000
DTSTAMP:20260422T100651
CREATED:20231227T225131Z
LAST-MODIFIED:20240530T062531Z
UID:10000229-1717065000-1717070400@www.posaunenchor-badurach.de
SUMMARY:Begleitung Fronleichnam St. Josef
DESCRIPTION:Begleitung Gottesdienst zum Fronleichnam der kath. Kirchengemeinde St. Josef in der kath. Kirche und Prozzesion zu verschiedenen Standorten
URL:https://www.posaunenchor-badurach.de/event/begleitung-fronleichnam-st-josef-2/
LOCATION:Katholische Kirche St. Josef\, Münsinger Straße 15\, Bad Urach\, 72574
CATEGORIES:Posaunenchor
ATTACH;FMTTYPE=image/jpeg:https://www.posaunenchor-badurach.de/wp-content/uploads/2023/01/sj_08_7.jpg
END:VEVENT
BEGIN:VEVENT
DTSTART;TZID=Europe/Berlin:20240126T180000
DTEND;TZID=Europe/Berlin:20240126T193000
DTSTAMP:20260422T100651
CREATED:20231227T230045Z
LAST-MODIFIED:20231227T230819Z
UID:10000233-1706292000-1706297400@www.posaunenchor-badurach.de
SUMMARY:Ökum. Blaulicht-Gottesdienst in St. Josef
DESCRIPTION:Ökumenischer Gottesdienst\, organisiert von der Notfallseelsorge Landkreis Reutlingen\, zu dem Einsatzkräfte von Polizei\, Feuerwehr\, DRK und THW aber auch weitere Interessierte herzlich eingeladen sind. Der Blaulicht-Gottesdienst findet dieses Jahr in der katholischen Kirche St. Josef statt.
URL:https://www.posaunenchor-badurach.de/event/blaulichtgottesdienst-in-st-josef/
LOCATION:Katholische Kirche St. Josef\, Münsinger Straße 15\, Bad Urach\, 72574
CATEGORIES:Posaunenchor
ATTACH;FMTTYPE=image/jpeg:https://www.posaunenchor-badurach.de/wp-content/uploads/2023/01/sj_08_7.jpg
END:VEVENT
BEGIN:VEVENT
DTSTART;TZID=Europe/Berlin:20230608T100000
DTEND;TZID=Europe/Berlin:20230608T100000
DTSTAMP:20260422T100651
CREATED:20230108T165634Z
LAST-MODIFIED:20230108T170113Z
UID:10000151-1686218400-1686218400@www.posaunenchor-badurach.de
SUMMARY:Begleitung Fronleichnam St. Josef
DESCRIPTION:Begleitung Gottesdienst zum Fronleichnam der kath. Kirchengemeinde St. Josef in der kath. Kirche und Prozzesion zu verschiedenen Standorten
URL:https://www.posaunenchor-badurach.de/event/begleitung-fronleichnam-st-josef/
LOCATION:Katholische Kirche St. Josef\, Münsinger Straße 15\, Bad Urach\, 72574
CATEGORIES:Posaunenchor
ATTACH;FMTTYPE=image/jpeg:https://www.posaunenchor-badurach.de/wp-content/uploads/2023/01/sj_08_7.jpg
END:VEVENT
END:VCALENDAR