BEGIN:VCALENDAR
VERSION:2.0
PRODID:-//ev. Posaunenchor Bad Urach - ECPv6.15.20//NONSGML v1.0//EN
CALSCALE:GREGORIAN
METHOD:PUBLISH
X-ORIGINAL-URL:https://www.posaunenchor-badurach.de
X-WR-CALDESC:Veranstaltungen für ev. Posaunenchor Bad Urach
REFRESH-INTERVAL;VALUE=DURATION:PT1H
X-Robots-Tag:noindex
X-PUBLISHED-TTL:PT1H
BEGIN:VTIMEZONE
TZID:Europe/Berlin
BEGIN:DAYLIGHT
TZOFFSETFROM:+0100
TZOFFSETTO:+0200
TZNAME:CEST
DTSTART:20210328T010000
END:DAYLIGHT
BEGIN:STANDARD
TZOFFSETFROM:+0200
TZOFFSETTO:+0100
TZNAME:CET
DTSTART:20211031T010000
END:STANDARD
BEGIN:DAYLIGHT
TZOFFSETFROM:+0100
TZOFFSETTO:+0200
TZNAME:CEST
DTSTART:20220327T010000
END:DAYLIGHT
BEGIN:STANDARD
TZOFFSETFROM:+0200
TZOFFSETTO:+0100
TZNAME:CET
DTSTART:20221030T010000
END:STANDARD
BEGIN:DAYLIGHT
TZOFFSETFROM:+0100
TZOFFSETTO:+0200
TZNAME:CEST
DTSTART:20230326T010000
END:DAYLIGHT
BEGIN:STANDARD
TZOFFSETFROM:+0200
TZOFFSETTO:+0100
TZNAME:CET
DTSTART:20231029T010000
END:STANDARD
BEGIN:DAYLIGHT
TZOFFSETFROM:+0100
TZOFFSETTO:+0200
TZNAME:CEST
DTSTART:20240331T010000
END:DAYLIGHT
BEGIN:STANDARD
TZOFFSETFROM:+0200
TZOFFSETTO:+0100
TZNAME:CET
DTSTART:20241027T010000
END:STANDARD
BEGIN:DAYLIGHT
TZOFFSETFROM:+0100
TZOFFSETTO:+0200
TZNAME:CEST
DTSTART:20250330T010000
END:DAYLIGHT
BEGIN:STANDARD
TZOFFSETFROM:+0200
TZOFFSETTO:+0100
TZNAME:CET
DTSTART:20251026T010000
END:STANDARD
BEGIN:DAYLIGHT
TZOFFSETFROM:+0100
TZOFFSETTO:+0200
TZNAME:CEST
DTSTART:20260329T010000
END:DAYLIGHT
BEGIN:STANDARD
TZOFFSETFROM:+0200
TZOFFSETTO:+0100
TZNAME:CET
DTSTART:20261025T010000
END:STANDARD
END:VTIMEZONE
BEGIN:VEVENT
DTSTART;TZID=Europe/Berlin:20251024T180000
DTEND;TZID=Europe/Berlin:20251024T180000
DTSTAMP:20260422T011628
CREATED:20250102T115100Z
LAST-MODIFIED:20250102T115100Z
UID:10000268-1761328800-1761328800@www.posaunenchor-badurach.de
SUMMARY:Lampionumzug für Kinder
DESCRIPTION:Lampionumzug mit anschließendem Singen im Hof vor der Barbara-Gonzaga-Gemeinschaftsschule. \n\nTreffpunkt 18:15 Uhr am Marktbrunnen.\nBeginn um 18.30 Uhr mit ein paar Liedern am Marktbrunnen\nAnschließend geht es durch die Kirchstraße\, über den Graf-Eberhard-Platz und hinter der Schule zum Schulhof\nca. 18:45 Liedersingen zusammen mit dem Posaunenchor vor der Barbara-Gonzaga-Gemeinschaftsschule
URL:https://www.posaunenchor-badurach.de/event/lampionumzug-fuer-kinder-2/
LOCATION:Barbara-Gonzaga-Gemeinschaftsschule\, Spitalstraße 6-9\, Bad Urach\, 72574
CATEGORIES:Posaunenchor
ATTACH;FMTTYPE=image/jpeg:https://www.posaunenchor-badurach.de/wp-content/uploads/2022/07/csm_20151207_101604_dd227bad93.jpg
END:VEVENT
BEGIN:VEVENT
DTSTART;TZID=Europe/Berlin:20241025T180000
DTEND;TZID=Europe/Berlin:20241025T180000
DTSTAMP:20260422T011628
CREATED:20231227T223004Z
LAST-MODIFIED:20231227T223004Z
UID:10000222-1729879200-1729879200@www.posaunenchor-badurach.de
SUMMARY:Lampionumzug für Kinder
DESCRIPTION:Lampionumzug mit anschließendem Singen im Hof vor der Barbara-Gonzaga-Gemeinschaftsschule. \n\nTreffpunkt 18:15 Uhr am Marktbrunnen.\nBeginn um 18.30 Uhr mit ein paar Liedern am Marktbrunnen\nAnschließend geht es durch die Kirchstraße\, über den Graf-Eberhard-Platz und hinter der Schule zum Schulhof\nca. 18:45 Liedersingen zusammen mit dem Posaunenchor vor der Barbara-Gonzaga-Gemeinschaftsschule
URL:https://www.posaunenchor-badurach.de/event/lampionumzug-fuer-kinder/
LOCATION:Barbara-Gonzaga-Gemeinschaftsschule\, Spitalstraße 6-9\, Bad Urach\, 72574
CATEGORIES:Posaunenchor
ATTACH;FMTTYPE=image/jpeg:https://www.posaunenchor-badurach.de/wp-content/uploads/2022/07/csm_20151207_101604_dd227bad93.jpg
END:VEVENT
BEGIN:VEVENT
DTSTART;TZID=Europe/Berlin:20221028T180000
DTEND;TZID=Europe/Berlin:20221028T180000
DTSTAMP:20260422T011628
CREATED:20220711T010122Z
LAST-MODIFIED:20220711T144621Z
UID:10000125-1666980000-1666980000@www.posaunenchor-badurach.de
SUMMARY:Lampionumzug für Kinder
DESCRIPTION:Lampionumzug mit anschließendem Singen im Hof vor der Barbara-Gonzaga-Gemeinschaftsschule. \n\nTreffpunkt 18:15 Uhr am Marktbrunnen.\nBeginn um 18.30 Uhr mit ein paar Liedern am Marktbrunnen\nAnschließend geht es durch die Kirchstraße\, über den Graf-Eberhard-Platz und hinter der Schule zum Schulhof\nca. 18:45 Liedersingen zusammen mit dem Posaunenchor vor der Barbara-Gonzaga-Gemeinschaftsschule
URL:https://www.posaunenchor-badurach.de/event/lampionsumzug-fuer-kinder/
LOCATION:Barbara-Gonzaga-Gemeinschaftsschule\, Spitalstraße 6-9\, Bad Urach\, 72574
CATEGORIES:Posaunenchor
ATTACH;FMTTYPE=image/jpeg:https://www.posaunenchor-badurach.de/wp-content/uploads/2022/07/csm_20151207_101604_dd227bad93.jpg
END:VEVENT
END:VCALENDAR